BEGIN:VCALENDAR
VERSION:2.0
PRODID:-//Tukios.com/
BEGIN:VEVENT
UID:1b08fbd6-5a3e-4e23-8518-d225e3106170@www.nimsgernfuneral.com
DTSTAMP:20260422T215224Z
DTSTART:20260506T200000Z
DTEND:20260506T210000Z
SUMMARY:Memorial Gathering
DESCRIPTION:
URL:https://www.nimsgernfuneral.com/obituaries/james-boerke
LOCATION:Nimsgern Funeral Home Chapel 1025 Margaret Street  Woodruff WI 
	54568
GEO:45.8930929;-89.6977675
END:VEVENT
END:VCALENDAR