BEGIN:VCALENDAR
VERSION:2.0
PRODID:-//Tukios.com/
BEGIN:VEVENT
UID:5038271e-7904-44b5-a9e3-d53e985bfd12@www.nimsgernfuneral.com
DTSTAMP:20260422T215229Z
DTSTART:20260506T210000Z
DTEND:20260506T213000Z
SUMMARY:Memorial Service
DESCRIPTION:
URL:https://www.nimsgernfuneral.com/obituaries/james-boerke
LOCATION:Nimsgern Funeral Home Chapel 1025 Margaret Street  Woodruff WI 
	54568
GEO:45.8930929;-89.6977675
END:VEVENT
END:VCALENDAR