BEGIN:VCALENDAR
VERSION:2.0
PRODID:-//Tukios.com/
BEGIN:VEVENT
UID:9785ade9-fe57-4e32-9dbd-aeb33dc94983@www.nimsgernfuneral.com
DTSTAMP:20260422T215639Z
DTSTART:20260725T170000Z
DTEND:20260725T200000Z
SUMMARY:Remembrance Picnic
DESCRIPTION:
URL:https://www.nimsgernfuneral.com/obituaries/james-boerke
LOCATION:William G. Lunney Lake Farm County Park 4330 Libby Road  Madison 
	WI 53711
GEO:43.0284713;-89.3309966
END:VEVENT
END:VCALENDAR