BEGIN:VCALENDAR
VERSION:2.0
PRODID:-//Tukios.com/
BEGIN:VEVENT
UID:31431f47-3e7b-4866-b341-b56d6e1b29e7@www.nimsgernfuneral.com
DTSTAMP:20260420T172457Z
DTSTART:20260425
SUMMARY:Private Family Services
DESCRIPTION:
URL:https://www.nimsgernfuneral.com/obituaries/joan-burdick
LOCATION: 101 N 2nd St  Tomahawk WI 54487
GEO:45.4722774;-89.7324924
END:VEVENT
END:VCALENDAR