BEGIN:VCALENDAR
VERSION:2.0
PRODID:-//Tukios.com/
BEGIN:VEVENT
UID:c1726158-506e-4bea-b8a8-462e39b75b05@www.nimsgernfuneral.com
DTSTAMP:20260422T041156Z
DTSTART:20260502T143000Z
DTEND:20260502T160000Z
SUMMARY:Memorial Gathering
DESCRIPTION:
URL:https://www.nimsgernfuneral.com/obituaries/raymond-timmers
LOCATION: W9485 US-8  Catawba WI 54515
GEO:45.5349689;-90.542481
END:VEVENT
END:VCALENDAR