BEGIN:VCALENDAR
VERSION:2.0
PRODID:-//Tukios.com/
BEGIN:VEVENT
UID:083b0ca8-6634-46a5-800b-ff75c79dc06c@www.nimsgernfuneral.com
DTSTAMP:20260422T041259Z
DTSTART:20260502T160000Z
DTEND:20260502T164500Z
SUMMARY:Memorial Service
DESCRIPTION:
URL:https://www.nimsgernfuneral.com/obituaries/raymond-timmers
LOCATION: W9485 US-8  Catawba WI 54515
GEO:45.5349689;-90.542481
END:VEVENT
END:VCALENDAR